BEGIN:VCALENDAR
VERSION:2.0
PRODID:-//pastoralinstitute.org//NONSGML kigkonsult.se iCalcreator 2.30.10/
 /
CALSCALE:GREGORIAN
METHOD:PUBLISH
UID:6c32ed48-7f07-473c-a98c-8b92175c1084
X-WR-CALDESC:
X-WR-RELCALID:1d3e293cbe8a0505d57ce5ec8fa0f48f
X-WR-TIMEZONE:America/New_York
BEGIN:VTIMEZONE
TZID:America/New_York
BEGIN:STANDARD
TZNAME:EST
DTSTART:20251102T020000
TZOFFSETFROM:-0400
TZOFFSETTO:-0500
RDATE:20261101T020000
END:STANDARD
BEGIN:DAYLIGHT
TZNAME:EDT
DTSTART:20250309T020000
TZOFFSETFROM:-0500
TZOFFSETTO:-0400
RDATE:20260308T020000
RDATE:20270314T020000
END:DAYLIGHT
END:VTIMEZONE
BEGIN:VEVENT
UID:dfda702f-56e8-4712-b086-a1dd2b67d7a9
DTSTAMP:20260425T013613Z
DESCRIPTION:
DTSTART;TZID=America/New_York:20251201T120000
DTEND;TZID=America/New_York:20251201T130000
LOCATION:Columbus Public Library
SUMMARY:Grief & Loneliness in the Holiday Season
END:VEVENT
END:VCALENDAR
