BEGIN:VCALENDAR
VERSION:2.0
PRODID:-//pastoralinstitute.org//NONSGML kigkonsult.se iCalcreator 2.30.10/
 /
CALSCALE:GREGORIAN
METHOD:PUBLISH
UID:bf5cebd6-80ae-45b6-a23b-3f6a1bfb4100
X-WR-CALDESC:
X-WR-RELCALID:41b2955dd6a517439c0be59c0566a26a
X-WR-TIMEZONE:America/New_York
BEGIN:VTIMEZONE
TZID:America/New_York
BEGIN:STANDARD
TZNAME:EST
DTSTART:20251102T020000
TZOFFSETFROM:-0400
TZOFFSETTO:-0500
RDATE:20261101T020000
END:STANDARD
BEGIN:DAYLIGHT
TZNAME:EDT
DTSTART:20250309T020000
TZOFFSETFROM:-0500
TZOFFSETTO:-0400
RDATE:20260308T020000
RDATE:20270314T020000
END:DAYLIGHT
END:VTIMEZONE
BEGIN:VEVENT
UID:32cc4c23-62b1-4cc8-aa9a-84c14b9575ab
DTSTAMP:20260425T013116Z
DESCRIPTION:
DTSTART;TZID=America/New_York:20251204T120000
DTEND;TZID=America/New_York:20251204T130000
LOCATION:Columbus Public Library
SUMMARY:Self-Help Book Club: Daring Greatly
END:VEVENT
END:VCALENDAR
