BEGIN:VCALENDAR
VERSION:2.0
PRODID:-//pastoralinstitute.org//NONSGML kigkonsult.se iCalcreator 2.30.10/
 /
CALSCALE:GREGORIAN
METHOD:PUBLISH
UID:16b7276a-1899-4a0f-9da1-b3970a2e1ae3
X-WR-CALDESC:
X-WR-RELCALID:c1d04b57fc81ce5d2d42d508f23587e3
X-WR-TIMEZONE:America/New_York
BEGIN:VTIMEZONE
TZID:America/New_York
BEGIN:STANDARD
TZNAME:EST
DTSTART:20251102T020000
TZOFFSETFROM:-0400
TZOFFSETTO:-0500
RDATE:20261101T020000
END:STANDARD
BEGIN:DAYLIGHT
TZNAME:EDT
DTSTART:20250309T020000
TZOFFSETFROM:-0500
TZOFFSETTO:-0400
RDATE:20260308T020000
RDATE:20270314T020000
END:DAYLIGHT
END:VTIMEZONE
BEGIN:VEVENT
UID:565a0f5d-b5f4-433f-b5dd-02e9c5c3a74a
DTSTAMP:20260425T013613Z
DESCRIPTION:
DTSTART;TZID=America/New_York:20251208T103000
DTEND;TZID=America/New_York:20251208T113000
LOCATION:South Columbus Public Library
SUMMARY:Making Sense of Emotions Through Art
END:VEVENT
END:VCALENDAR
