BEGIN:VCALENDAR
VERSION:2.0
PRODID:-//pastoralinstitute.org//NONSGML kigkonsult.se iCalcreator 2.30.10/
 /
CALSCALE:GREGORIAN
METHOD:PUBLISH
UID:530c3828-02ea-4c50-976f-f78487876612
X-WR-CALDESC:
X-WR-RELCALID:6cd075f0e2bd8dd45fb47b89bbb7e8d1
X-WR-TIMEZONE:America/New_York
BEGIN:VTIMEZONE
TZID:America/New_York
BEGIN:STANDARD
TZNAME:EST
DTSTART:20251102T020000
TZOFFSETFROM:-0400
TZOFFSETTO:-0500
RDATE:20261101T020000
END:STANDARD
BEGIN:DAYLIGHT
TZNAME:EDT
DTSTART:20250309T020000
TZOFFSETFROM:-0500
TZOFFSETTO:-0400
RDATE:20260308T020000
RDATE:20270314T020000
END:DAYLIGHT
END:VTIMEZONE
BEGIN:VEVENT
UID:f6616653-4c8f-4b0b-a3e1-a90271b9edfb
DTSTAMP:20260425T013315Z
DESCRIPTION:
DTSTART;TZID=America/New_York:20251209T180000
DTEND;TZID=America/New_York:20251209T190000
LOCATION:2022 15th Avenue\, Columbus\, GA 31901 US
SUMMARY:The Compass Crew (Support Group for Boys: Ages 10-17)
END:VEVENT
END:VCALENDAR
