BEGIN:VCALENDAR
VERSION:2.0
PRODID:-//pastoralinstitute.org//NONSGML kigkonsult.se iCalcreator 2.30.10/
 /
CALSCALE:GREGORIAN
METHOD:PUBLISH
UID:db067333-1fb4-4586-b82f-cfe6b650bd10
X-WR-CALDESC:An interactive session that introduces children to simple mind
 fulness exercises through playful activities. This program helps kids buil
 d focus and emotional self-regulation in fun\, age-appropriate ways. \n\nT
 his children's program will be hosted at Mildred Terry Public Library.
X-WR-RELCALID:6a83a41385750ba0aaa8d280cedd77ca
X-WR-TIMEZONE:America/New_York
BEGIN:VTIMEZONE
TZID:America/New_York
BEGIN:STANDARD
TZNAME:EST
DTSTART:20251102T020000
TZOFFSETFROM:-0400
TZOFFSETTO:-0500
RDATE:20261101T020000
END:STANDARD
BEGIN:DAYLIGHT
TZNAME:EDT
DTSTART:20250309T020000
TZOFFSETFROM:-0500
TZOFFSETTO:-0400
RDATE:20260308T020000
RDATE:20270314T020000
END:DAYLIGHT
END:VTIMEZONE
BEGIN:VEVENT
UID:b30fc3af-571a-435c-b077-e557cbd99370
DTSTAMP:20260424T234709Z
DESCRIPTION:An interactive session that introduces children to simple mindf
 ulness exercises through playful activities. This program helps kids build
  focus and emotional self-regulation in fun\, age-appropriate ways. \n\nTh
 is children's program will be hosted at Mildred Terry Public Library.
DTSTART;TZID=America/New_York:20260112T110000
DTEND;TZID=America/New_York:20260112T120000
LOCATION:640 Veterans Pkwy\, Columbus\, GA 31901 US
SUMMARY:Storytime: Breathe Like a Bear
END:VEVENT
END:VCALENDAR
