BEGIN:VCALENDAR
VERSION:2.0
PRODID:-//pastoralinstitute.org//NONSGML kigkonsult.se iCalcreator 2.30.10/
 /
CALSCALE:GREGORIAN
METHOD:PUBLISH
UID:9adfbcb6-3112-4626-8f87-fbcf0d7c393e
X-WR-CALDESC:Create and compile tips and techniques for calming distress in
 to your personalized toolkit.\n\nThis teen program will be hosted at Mildr
 ed Terry Public Library.
X-WR-RELCALID:8c76233fa61913f48311f3f29b953710
X-WR-TIMEZONE:America/New_York
BEGIN:VTIMEZONE
TZID:America/New_York
BEGIN:STANDARD
TZNAME:EST
DTSTART:20251102T020000
TZOFFSETFROM:-0400
TZOFFSETTO:-0500
RDATE:20261101T020000
END:STANDARD
BEGIN:DAYLIGHT
TZNAME:EDT
DTSTART:20250309T020000
TZOFFSETFROM:-0500
TZOFFSETTO:-0400
RDATE:20260308T020000
RDATE:20270314T020000
END:DAYLIGHT
END:VTIMEZONE
BEGIN:VEVENT
UID:64ab2d33-20a4-4638-94ae-a85514c57ab9
DTSTAMP:20260424T235206Z
DESCRIPTION:Create and compile tips and techniques for calming distress int
 o your personalized toolkit.\n\nThis teen program will be hosted at Mildre
 d Terry Public Library.
DTSTART;TZID=America/New_York:20260113T180000
DTEND;TZID=America/New_York:20260113T190000
LOCATION:640 Veterans Pkwy\, Columbus\, GA 31901 US
SUMMARY:Mental Wellness Toolkit: Strategies to Navigate Stress with Confide
 nce
END:VEVENT
END:VCALENDAR
