BEGIN:VCALENDAR
VERSION:2.0
PRODID:-//pastoralinstitute.org//NONSGML kigkonsult.se iCalcreator 2.30.10/
 /
CALSCALE:GREGORIAN
METHOD:PUBLISH
UID:a9a80860-3712-40a4-8e63-8a2ddb407c84
X-WR-CALDESC:Understanding and managing grief in the face of loss.\n\nThis 
 adult program will be hosted at South Columbus Public Library.
X-WR-RELCALID:98213bedbf0d210123db47793fcdc8cb
X-WR-TIMEZONE:America/New_York
BEGIN:VTIMEZONE
TZID:America/New_York
BEGIN:STANDARD
TZNAME:EST
DTSTART:20251102T020000
TZOFFSETFROM:-0400
TZOFFSETTO:-0500
RDATE:20261101T020000
END:STANDARD
BEGIN:DAYLIGHT
TZNAME:EDT
DTSTART:20250309T020000
TZOFFSETFROM:-0500
TZOFFSETTO:-0400
RDATE:20260308T020000
RDATE:20270314T020000
END:DAYLIGHT
END:VTIMEZONE
BEGIN:VEVENT
UID:6dd19baf-9d65-40e5-b1de-d94dffc2403d
DTSTAMP:20260424T234202Z
DESCRIPTION:Understanding and managing grief in the face of loss.\n\nThis a
 dult program will be hosted at South Columbus Public Library.
DTSTART;TZID=America/New_York:20260122T110000
DTEND;TZID=America/New_York:20260122T120000
LOCATION:2034 S Lumpkin Rd\, Columbus\, GA 31903 US
SUMMARY:Coffee and Connect: Coping with Loss
END:VEVENT
END:VCALENDAR
