BEGIN:VCALENDAR
VERSION:2.0
PRODID:-//pastoralinstitute.org//NONSGML kigkonsult.se iCalcreator 2.30.10/
 /
CALSCALE:GREGORIAN
METHOD:PUBLISH
UID:5e3ccd64-1001-44d8-abb8-9b98e6464203
X-WR-CALDESC:
X-WR-RELCALID:fd3c82a0157df0b4cdf0d9d6b73bd1fa
X-WR-TIMEZONE:America/New_York
BEGIN:VTIMEZONE
TZID:America/New_York
BEGIN:STANDARD
TZNAME:EST
DTSTART:20251102T020000
TZOFFSETFROM:-0400
TZOFFSETTO:-0500
RDATE:20261101T020000
END:STANDARD
BEGIN:DAYLIGHT
TZNAME:EDT
DTSTART:20250309T020000
TZOFFSETFROM:-0500
TZOFFSETTO:-0400
RDATE:20260308T020000
RDATE:20270314T020000
END:DAYLIGHT
END:VTIMEZONE
BEGIN:VEVENT
UID:698863d8-1400-46bf-912a-da29de23ffff
DTSTAMP:20260424T220416Z
DESCRIPTION:
DTSTART;TZID=America/New_York:20260205T180000
DTEND;TZID=America/New_York:20260205T190000
LOCATION:2022 15th Avenue\, Columbus\, GA 31808 US
SUMMARY:Grief Group
END:VEVENT
END:VCALENDAR
