BEGIN:VCALENDAR
VERSION:2.0
PRODID:-//pastoralinstitute.org//NONSGML kigkonsult.se iCalcreator 2.30.10/
 /
CALSCALE:GREGORIAN
METHOD:PUBLISH
UID:edc000cc-f0e2-413d-b124-a42ddfe7ad11
X-WR-CALDESC:Identifying and using community support to raise resilient kid
 s.\n\nThis adult program will be hosted at Columbus Public Library.
X-WR-RELCALID:459e291aad240681bf42164ec0113ef3
X-WR-TIMEZONE:America/New_York
BEGIN:VTIMEZONE
TZID:America/New_York
BEGIN:STANDARD
TZNAME:EST
DTSTART:20251102T020000
TZOFFSETFROM:-0400
TZOFFSETTO:-0500
RDATE:20261101T020000
END:STANDARD
BEGIN:DAYLIGHT
TZNAME:EDT
DTSTART:20250309T020000
TZOFFSETFROM:-0500
TZOFFSETTO:-0400
RDATE:20260308T020000
RDATE:20270314T020000
END:DAYLIGHT
END:VTIMEZONE
BEGIN:VEVENT
UID:723a33a9-3d44-40a2-8984-e93df6a30bc3
DTSTAMP:20260424T220700Z
DESCRIPTION:Identifying and using community support to raise resilient kids
 .\n\nThis adult program will be hosted at Columbus Public Library.
DTSTART;TZID=America/New_York:20260209T110000
DTEND;TZID=America/New_York:20260209T120000
LOCATION:3000 Macon Rd. \, Columbus\, GA 31906 US
SUMMARY:Resilient Parenting: Stand By Me
END:VEVENT
END:VCALENDAR
