BEGIN:VCALENDAR
VERSION:2.0
PRODID:-//pastoralinstitute.org//NONSGML kigkonsult.se iCalcreator 2.30.10/
 /
CALSCALE:GREGORIAN
METHOD:PUBLISH
UID:f7a7b42d-0d9c-411b-8ccd-c71ba7cdc0e3
X-WR-CALDESC:
X-WR-RELCALID:a34f7ce9262c1755496a5ab508eb0422
X-WR-TIMEZONE:America/New_York
BEGIN:VTIMEZONE
TZID:America/New_York
BEGIN:STANDARD
TZNAME:EST
DTSTART:20251102T020000
TZOFFSETFROM:-0400
TZOFFSETTO:-0500
RDATE:20261101T020000
END:STANDARD
BEGIN:DAYLIGHT
TZNAME:EDT
DTSTART:20250309T020000
TZOFFSETFROM:-0500
TZOFFSETTO:-0400
RDATE:20260308T020000
RDATE:20270314T020000
END:DAYLIGHT
END:VTIMEZONE
BEGIN:VEVENT
UID:2de940c8-2ed7-4a58-a16c-237f7efbbae0
DTSTAMP:20260424T220226Z
DESCRIPTION:
DTSTART;TZID=America/New_York:20260210T180000
DTEND;TZID=America/New_York:20260210T190000
LOCATION:2022 15th Ave\, Columbus\, GA 31901 US
SUMMARY:Compass Crew
END:VEVENT
END:VCALENDAR
