BEGIN:VCALENDAR
VERSION:2.0
PRODID:-//pastoralinstitute.org//NONSGML kigkonsult.se iCalcreator 2.30.10/
 /
CALSCALE:GREGORIAN
METHOD:PUBLISH
UID:c8e1ab73-f769-4bf0-b04e-b3dbe410c1dc
X-WR-CALDESC:Discover how music and lyrics affect our emotions and well-bei
 ng. Create a wellness playlist for emotional regulation.\n\nThis teen prog
 ram will be hosted at Columbus Public Library.
X-WR-RELCALID:0491980318701beba7fb475d36fc1a15
X-WR-TIMEZONE:America/New_York
BEGIN:VTIMEZONE
TZID:America/New_York
BEGIN:STANDARD
TZNAME:EST
DTSTART:20251102T020000
TZOFFSETFROM:-0400
TZOFFSETTO:-0500
RDATE:20261101T020000
END:STANDARD
BEGIN:DAYLIGHT
TZNAME:EDT
DTSTART:20250309T020000
TZOFFSETFROM:-0500
TZOFFSETTO:-0400
RDATE:20260308T020000
RDATE:20270314T020000
END:DAYLIGHT
END:VTIMEZONE
BEGIN:VEVENT
UID:4614d5c9-a61e-44ac-9e8c-e7e54f12e2cc
DTSTAMP:20260424T220845Z
DESCRIPTION:Discover how music and lyrics affect our emotions and well-bein
 g. Create a wellness playlist for emotional regulation.\n\nThis teen progr
 am will be hosted at Columbus Public Library.
DTSTART;TZID=America/New_York:20260211T163000
DTEND;TZID=America/New_York:20260211T173000
LOCATION:3000 Macon Rd. \, Columbus\, GA 31906 US
SUMMARY:When Words Fail\, Let Music Speak\, Creating a Mental Wellness Play
 list
END:VEVENT
END:VCALENDAR
