BEGIN:VCALENDAR
VERSION:2.0
PRODID:-//pastoralinstitute.org//NONSGML kigkonsult.se iCalcreator 2.30.10/
 /
CALSCALE:GREGORIAN
METHOD:PUBLISH
UID:975765cb-7e8a-407c-84bb-ffc0709beae8
X-WR-CALDESC:
X-WR-RELCALID:7c3bdb748ab852512e8f85a7d9319ebd
X-WR-TIMEZONE:America/New_York
BEGIN:VTIMEZONE
TZID:America/New_York
BEGIN:STANDARD
TZNAME:EST
DTSTART:20251102T020000
TZOFFSETFROM:-0400
TZOFFSETTO:-0500
RDATE:20261101T020000
END:STANDARD
BEGIN:DAYLIGHT
TZNAME:EDT
DTSTART:20250309T020000
TZOFFSETFROM:-0500
TZOFFSETTO:-0400
RDATE:20260308T020000
RDATE:20270314T020000
END:DAYLIGHT
END:VTIMEZONE
BEGIN:VEVENT
UID:a9950a35-4b85-4f6d-b7c8-95199ae96add
DTSTAMP:20260424T221815Z
DESCRIPTION:
DTSTART;TZID=America/New_York:20260212T180000
DTEND;TZID=America/New_York:20260212T190000
LOCATION:2022 15th Avenue\, Columbus\, GA 31901 US
SUMMARY:Women's Divorce Support Group
END:VEVENT
END:VCALENDAR
