BEGIN:VCALENDAR
VERSION:2.0
PRODID:-//pastoralinstitute.org//NONSGML kigkonsult.se iCalcreator 2.30.10/
 /
CALSCALE:GREGORIAN
METHOD:PUBLISH
UID:1ee197f6-82f9-43de-865f-e4b32f618f36
X-WR-CALDESC:
X-WR-RELCALID:9500f743ab65408d0e2628d06abed75d
X-WR-TIMEZONE:America/New_York
BEGIN:VTIMEZONE
TZID:America/New_York
BEGIN:STANDARD
TZNAME:EST
DTSTART:20251102T020000
TZOFFSETFROM:-0400
TZOFFSETTO:-0500
RDATE:20261101T020000
END:STANDARD
BEGIN:DAYLIGHT
TZNAME:EDT
DTSTART:20250309T020000
TZOFFSETFROM:-0500
TZOFFSETTO:-0400
RDATE:20260308T020000
RDATE:20270314T020000
END:DAYLIGHT
END:VTIMEZONE
BEGIN:VEVENT
UID:9dfec63e-d01e-45f5-9454-6069e92dcfa0
DTSTAMP:20260424T220453Z
DESCRIPTION:
DTSTART;TZID=America/New_York:20260219T180000
DTEND;TZID=America/New_York:20260219T190000
LOCATION:2022 15th Avenue\, Columbus\, GA 31808 US
SUMMARY:Grief Group
END:VEVENT
END:VCALENDAR
