BEGIN:VCALENDAR
VERSION:2.0
PRODID:-//pastoralinstitute.org//NONSGML kigkonsult.se iCalcreator 2.30.10/
 /
CALSCALE:GREGORIAN
METHOD:PUBLISH
UID:f6b8b190-0172-48ba-ac2e-cdde27b00fd0
X-WR-CALDESC:
X-WR-RELCALID:c8b3f8e56c28dd6257975cc89fb6c1dc
X-WR-TIMEZONE:America/New_York
BEGIN:VTIMEZONE
TZID:America/New_York
BEGIN:STANDARD
TZNAME:EST
DTSTART:20251102T020000
TZOFFSETFROM:-0400
TZOFFSETTO:-0500
RDATE:20261101T020000
END:STANDARD
BEGIN:DAYLIGHT
TZNAME:EDT
DTSTART:20250309T020000
TZOFFSETFROM:-0500
TZOFFSETTO:-0400
RDATE:20260308T020000
RDATE:20270314T020000
END:DAYLIGHT
END:VTIMEZONE
BEGIN:VEVENT
UID:82690e11-f84f-4b0a-853a-74d72a98de2f
DTSTAMP:20260424T221226Z
DESCRIPTION:
DTSTART;TZID=America/New_York:20260224T173000
DTEND;TZID=America/New_York:20260224T183000
LOCATION:2022 15th Avenue\, Columbus\, GA 31901 US
SUMMARY:Teen Grief Support Group
END:VEVENT
END:VCALENDAR
