BEGIN:VCALENDAR
VERSION:2.0
PRODID:-//pastoralinstitute.org//NONSGML kigkonsult.se iCalcreator 2.30.10/
 /
CALSCALE:GREGORIAN
METHOD:PUBLISH
UID:9c964728-9034-4c5e-a2f0-54ebdaa8deed
X-WR-CALDESC:Introduction to faith\, hope\, and love series. With our speak
 er Ernie Kelly\, Congregational Outreach Coordinator.
X-WR-RELCALID:e1a3dead74e6a2ddfe0fe20f147a0eb8
X-WR-TIMEZONE:America/New_York
BEGIN:VTIMEZONE
TZID:America/New_York
BEGIN:STANDARD
TZNAME:EST
DTSTART:20251102T020000
TZOFFSETFROM:-0400
TZOFFSETTO:-0500
RDATE:20261101T020000
END:STANDARD
BEGIN:DAYLIGHT
TZNAME:EDT
DTSTART:20250309T020000
TZOFFSETFROM:-0500
TZOFFSETTO:-0400
RDATE:20260308T020000
RDATE:20270314T020000
END:DAYLIGHT
END:VTIMEZONE
BEGIN:VEVENT
UID:1e0b2e92-96b4-4698-a84b-2633316812f7
DTSTAMP:20260424T220217Z
DESCRIPTION:Introduction to faith\, hope\, and love series. With our speake
 r Ernie Kelly\, Congregational Outreach Coordinator.
DTSTART;TZID=America/New_York:20260226T080000
DTEND;TZID=America/New_York:20260226T090000
LOCATION:2022 15th Avenue\, Columbus\, GA 31901 US
SUMMARY:Conversations Among Clergy
END:VEVENT
END:VCALENDAR
