BEGIN:VCALENDAR
VERSION:2.0
PRODID:-//pastoralinstitute.org//NONSGML kigkonsult.se iCalcreator 2.30.10/
 /
CALSCALE:GREGORIAN
METHOD:PUBLISH
UID:6ab98266-0085-4d6f-bb24-dc9e60f2a352
X-WR-CALDESC:
X-WR-RELCALID:6dde148ccac98a681c4f5608d0daa4fe
X-WR-TIMEZONE:America/New_York
BEGIN:VTIMEZONE
TZID:America/New_York
BEGIN:STANDARD
TZNAME:EST
DTSTART:20251102T020000
TZOFFSETFROM:-0400
TZOFFSETTO:-0500
RDATE:20261101T020000
END:STANDARD
BEGIN:DAYLIGHT
TZNAME:EDT
DTSTART:20250309T020000
TZOFFSETFROM:-0500
TZOFFSETTO:-0400
RDATE:20260308T020000
RDATE:20270314T020000
END:DAYLIGHT
END:VTIMEZONE
BEGIN:VEVENT
UID:11a88770-e85a-4886-8dcf-5456089046b3
DTSTAMP:20260424T203039Z
DESCRIPTION:
DTSTART;TZID=America/New_York:20260305T180000
DTEND;TZID=America/New_York:20260305T190000
LOCATION:2022 15th Avenue\, Columbus\, GA 31808 US
SUMMARY:Grief Group
END:VEVENT
END:VCALENDAR
