BEGIN:VCALENDAR
VERSION:2.0
PRODID:-//pastoralinstitute.org//NONSGML kigkonsult.se iCalcreator 2.30.10/
 /
CALSCALE:GREGORIAN
METHOD:PUBLISH
UID:0c9e8a8c-6484-4a65-b1d3-830902001a65
X-WR-CALDESC:
X-WR-RELCALID:82ae150241ae3672aba2d36c9f11f512
X-WR-TIMEZONE:America/New_York
BEGIN:VTIMEZONE
TZID:America/New_York
BEGIN:STANDARD
TZNAME:EST
DTSTART:20251102T020000
TZOFFSETFROM:-0400
TZOFFSETTO:-0500
RDATE:20261101T020000
END:STANDARD
BEGIN:DAYLIGHT
TZNAME:EDT
DTSTART:20260308T020000
TZOFFSETFROM:-0500
TZOFFSETTO:-0400
RDATE:20270314T020000
END:DAYLIGHT
END:VTIMEZONE
BEGIN:VEVENT
UID:d5de42ea-cfc8-4774-8fe9-45c80383a74c
DTSTAMP:20260424T202909Z
DESCRIPTION:
DTSTART;TZID=America/New_York:20260310T180000
DTEND;TZID=America/New_York:20260310T190000
LOCATION:2022 15th Ave\, Columbus\, GA 31901 US
SUMMARY:Compass Crew
END:VEVENT
END:VCALENDAR
