BEGIN:VCALENDAR
VERSION:2.0
PRODID:-//pastoralinstitute.org//NONSGML kigkonsult.se iCalcreator 2.30.10/
 /
CALSCALE:GREGORIAN
METHOD:PUBLISH
UID:214920a2-aaea-4a2d-b0e8-9f9f3d489bd4
X-WR-CALDESC:
X-WR-RELCALID:c6ffc1f37b6b70d1892fbfb4e416ac60
X-WR-TIMEZONE:America/New_York
BEGIN:VTIMEZONE
TZID:America/New_York
BEGIN:STANDARD
TZNAME:EST
DTSTART:20251102T020000
TZOFFSETFROM:-0400
TZOFFSETTO:-0500
RDATE:20261101T020000
END:STANDARD
BEGIN:DAYLIGHT
TZNAME:EDT
DTSTART:20260308T020000
TZOFFSETFROM:-0500
TZOFFSETTO:-0400
RDATE:20270314T020000
END:DAYLIGHT
END:VTIMEZONE
BEGIN:VEVENT
UID:cdff91ce-95c9-44a5-8354-12e7123580dd
DTSTAMP:20260424T203227Z
DESCRIPTION:
DTSTART;TZID=America/New_York:20260312T180000
DTEND;TZID=America/New_York:20260312T190000
LOCATION:2022 15th Avenue\, Columbus\, GA 31901 US
SUMMARY:Women's Divorce Support Group
END:VEVENT
END:VCALENDAR
