BEGIN:VCALENDAR
VERSION:2.0
PRODID:-//pastoralinstitute.org//NONSGML kigkonsult.se iCalcreator 2.30.10/
 /
CALSCALE:GREGORIAN
METHOD:PUBLISH
UID:35eaea97-2c80-46b8-a981-2ab4964e39aa
X-WR-CALDESC:Learn healthy communication and self-care strategies for build
 ing healthy connections.\n\nThis adult program will be hosted at North Col
 umbus Public Library.
X-WR-RELCALID:603c14dfa2eac8e0f8ea9598b790bebb
X-WR-TIMEZONE:America/New_York
BEGIN:VTIMEZONE
TZID:America/New_York
BEGIN:STANDARD
TZNAME:EST
DTSTART:20251102T020000
TZOFFSETFROM:-0400
TZOFFSETTO:-0500
RDATE:20261101T020000
END:STANDARD
BEGIN:DAYLIGHT
TZNAME:EDT
DTSTART:20260308T020000
TZOFFSETFROM:-0500
TZOFFSETTO:-0400
RDATE:20270314T020000
END:DAYLIGHT
END:VTIMEZONE
BEGIN:VEVENT
UID:87a015d4-851a-4819-8603-505495084e2e
DTSTAMP:20260424T203209Z
DESCRIPTION:Learn healthy communication and self-care strategies for buildi
 ng healthy connections.\n\nThis adult program will be hosted at North Colu
 mbus Public Library.
DTSTART;TZID=America/New_York:20260316T110000
DTEND;TZID=America/New_York:20260316T120000
LOCATION:5689 Armour Rd\, Columbus\, GA 31909 US
SUMMARY:Protect Your Peace: Mastering Healthy Boundaries in Relationships
END:VEVENT
END:VCALENDAR
