BEGIN:VCALENDAR
VERSION:2.0
PRODID:-//pastoralinstitute.org//NONSGML kigkonsult.se iCalcreator 2.30.10/
 /
CALSCALE:GREGORIAN
METHOD:PUBLISH
UID:94003151-20df-46c1-aad2-3582492fe63e
X-WR-CALDESC:
X-WR-RELCALID:03352b3d3478ea6df24f0f67a666c0b1
X-WR-TIMEZONE:America/New_York
BEGIN:VTIMEZONE
TZID:America/New_York
BEGIN:STANDARD
TZNAME:EST
DTSTART:20251102T020000
TZOFFSETFROM:-0400
TZOFFSETTO:-0500
RDATE:20261101T020000
END:STANDARD
BEGIN:DAYLIGHT
TZNAME:EDT
DTSTART:20260308T020000
TZOFFSETFROM:-0500
TZOFFSETTO:-0400
RDATE:20270314T020000
END:DAYLIGHT
END:VTIMEZONE
BEGIN:VEVENT
UID:3a663c5b-74dd-48ff-bf46-00b12effa48d
DTSTAMP:20260424T203435Z
DESCRIPTION:
DTSTART;TZID=America/New_York:20260317T173000
DTEND;TZID=America/New_York:20260317T183000
LOCATION:2022 15th Avenue\, Columbus\, GA 31901 US
SUMMARY:Teen Grief Support Group
END:VEVENT
END:VCALENDAR
