BEGIN:VCALENDAR
VERSION:2.0
PRODID:-//pastoralinstitute.org//NONSGML kigkonsult.se iCalcreator 2.30.10/
 /
CALSCALE:GREGORIAN
METHOD:PUBLISH
UID:7a279d07-7508-4138-bb42-c8448162797d
X-WR-CALDESC:
X-WR-RELCALID:2729b703c7b71388a5a7d45900b13a06
X-WR-TIMEZONE:America/New_York
BEGIN:VTIMEZONE
TZID:America/New_York
BEGIN:STANDARD
TZNAME:EST
DTSTART:20251102T020000
TZOFFSETFROM:-0400
TZOFFSETTO:-0500
RDATE:20261101T020000
END:STANDARD
BEGIN:DAYLIGHT
TZNAME:EDT
DTSTART:20260308T020000
TZOFFSETFROM:-0500
TZOFFSETTO:-0400
RDATE:20270314T020000
END:DAYLIGHT
END:VTIMEZONE
BEGIN:VEVENT
UID:ac314e5f-2d08-4e3a-bae0-a642506c92cf
DTSTAMP:20260424T202914Z
DESCRIPTION:
DTSTART;TZID=America/New_York:20260324T180000
DTEND;TZID=America/New_York:20260324T190000
LOCATION:2022 15th Ave\, Columbus\, GA 31901 US
SUMMARY:Compass Crew
END:VEVENT
END:VCALENDAR
