BEGIN:VCALENDAR
VERSION:2.0
PRODID:-//pastoralinstitute.org//NONSGML kigkonsult.se iCalcreator 2.30.10/
 /
CALSCALE:GREGORIAN
METHOD:PUBLISH
UID:b14b5727-5d89-408f-a615-669099158f98
X-WR-CALDESC:Helping Children Understand and Express Emotions (Part 2-Sadne
 ss and disappointment).\n\nThis Children (Preschool) program will be hoste
 d at Columbus Public Library.
X-WR-RELCALID:4c134e39d4bc0303378fe8f07bec5f8b
X-WR-TIMEZONE:America/New_York
BEGIN:VTIMEZONE
TZID:America/New_York
BEGIN:STANDARD
TZNAME:EST
DTSTART:20251102T020000
TZOFFSETFROM:-0400
TZOFFSETTO:-0500
RDATE:20261101T020000
END:STANDARD
BEGIN:DAYLIGHT
TZNAME:EDT
DTSTART:20260308T020000
TZOFFSETFROM:-0500
TZOFFSETTO:-0400
RDATE:20270314T020000
END:DAYLIGHT
END:VTIMEZONE
BEGIN:VEVENT
UID:15f3830f-b6fb-4352-96a5-7555cc880957
DTSTAMP:20260424T185100Z
DESCRIPTION:Helping Children Understand and Express Emotions (Part 2-Sadnes
 s and disappointment).\n\nThis Children (Preschool) program will be hosted
  at Columbus Public Library.
DTSTART;TZID=America/New_York:20260401T110000
DTEND;TZID=America/New_York:20260401T120000
LOCATION:3000 Macon Rd. \, Columbus\, GA 31906 US
SUMMARY:Little Hearts\, Big Feelings Pt. 2 Sadness & Disappointment
END:VEVENT
END:VCALENDAR
