BEGIN:VCALENDAR
VERSION:2.0
PRODID:-//pastoralinstitute.org//NONSGML kigkonsult.se iCalcreator 2.30.10/
 /
CALSCALE:GREGORIAN
METHOD:PUBLISH
UID:4a466de5-7c33-4a11-b5a9-4c096e1cb198
X-WR-CALDESC:Techniques to help reduce stress\, improve emotional regulatio
 n\, and enhance overall wellbeing.\n\nThis adult program will be held at C
 olumbus Public Library.
X-WR-RELCALID:959777d6eec1e1ac82e15cde87bc9c97
X-WR-TIMEZONE:America/New_York
BEGIN:VTIMEZONE
TZID:America/New_York
BEGIN:STANDARD
TZNAME:EST
DTSTART:20251102T020000
TZOFFSETFROM:-0400
TZOFFSETTO:-0500
RDATE:20261101T020000
END:STANDARD
BEGIN:DAYLIGHT
TZNAME:EDT
DTSTART:20260308T020000
TZOFFSETFROM:-0500
TZOFFSETTO:-0400
RDATE:20270314T020000
END:DAYLIGHT
END:VTIMEZONE
BEGIN:VEVENT
UID:be7cd564-5f0e-4823-b30a-cd42f3758fbe
DTSTAMP:20260424T184445Z
DESCRIPTION:Techniques to help reduce stress\, improve emotional regulation
 \, and enhance overall wellbeing.\n\nThis adult program will be held at Co
 lumbus Public Library.
DTSTART;TZID=America/New_York:20260406T120000
DTEND;TZID=America/New_York:20260406T130000
LOCATION:3000 Macon Rd.\, Columbus\, AL 31906 US
SUMMARY:From Stressed to Strong: Helpful tools for finding balance
END:VEVENT
END:VCALENDAR
