BEGIN:VCALENDAR
VERSION:2.0
PRODID:-//pastoralinstitute.org//NONSGML kigkonsult.se iCalcreator 2.30.10/
 /
CALSCALE:GREGORIAN
METHOD:PUBLISH
UID:cf4a20dd-fc72-45a7-b494-6a46841a423d
X-WR-CALDESC:Create and compile tips and techniques for calming distress in
 to your personalized toolkit.\n\nThis teen program will be hosted at Colum
 bus Public Library.
X-WR-RELCALID:0b015875ada5f4514a7ad8d8c355c70f
X-WR-TIMEZONE:America/New_York
BEGIN:VTIMEZONE
TZID:America/New_York
BEGIN:STANDARD
TZNAME:EST
DTSTART:20251102T020000
TZOFFSETFROM:-0400
TZOFFSETTO:-0500
RDATE:20261101T020000
END:STANDARD
BEGIN:DAYLIGHT
TZNAME:EDT
DTSTART:20260308T020000
TZOFFSETFROM:-0500
TZOFFSETTO:-0400
RDATE:20270314T020000
END:DAYLIGHT
END:VTIMEZONE
BEGIN:VEVENT
UID:3018d516-4686-40f2-8490-75e5e1e5cf46
DTSTAMP:20260424T185212Z
DESCRIPTION:Create and compile tips and techniques for calming distress int
 o your personalized toolkit.\n\nThis teen program will be hosted at Columb
 us Public Library.
DTSTART;TZID=America/New_York:20260408T163000
DTEND;TZID=America/New_York:20260408T173000
LOCATION:3000 Macon Rd. \, Columbus\, GA 31906 US
SUMMARY:Create your Mental Wellness Toolkit: Strategies to Navigate Stress 
 with Confidence
END:VEVENT
END:VCALENDAR
