BEGIN:VCALENDAR
VERSION:2.0
PRODID:-//pastoralinstitute.org//NONSGML kigkonsult.se iCalcreator 2.30.10/
 /
CALSCALE:GREGORIAN
METHOD:PUBLISH
UID:1f12a85d-088a-4469-b04c-dec9e4f96a06
X-WR-CALDESC:
X-WR-RELCALID:e52f49eb84a644c429c077a256860988
X-WR-TIMEZONE:America/New_York
BEGIN:VTIMEZONE
TZID:America/New_York
BEGIN:STANDARD
TZNAME:EST
DTSTART:20251102T020000
TZOFFSETFROM:-0400
TZOFFSETTO:-0500
RDATE:20261101T020000
END:STANDARD
BEGIN:DAYLIGHT
TZNAME:EDT
DTSTART:20260308T020000
TZOFFSETFROM:-0500
TZOFFSETTO:-0400
RDATE:20270314T020000
END:DAYLIGHT
END:VTIMEZONE
BEGIN:VEVENT
UID:4eeebebf-f1d1-4133-b44d-11a78d65b9b4
DTSTAMP:20260424T185004Z
DESCRIPTION:
DTSTART;TZID=America/New_York:20260409T180000
DTEND;TZID=America/New_York:20260409T190000
LOCATION:2022 15th Avenue\, Columbus\, GA 31901 US
SUMMARY:Women's Divorce Support Group
END:VEVENT
END:VCALENDAR
