BEGIN:VCALENDAR
VERSION:2.0
PRODID:-//pastoralinstitute.org//NONSGML kigkonsult.se iCalcreator 2.30.10/
 /
CALSCALE:GREGORIAN
METHOD:PUBLISH
UID:9e7ec727-4393-4aeb-8a01-290852ef9a74
X-WR-CALDESC:
X-WR-RELCALID:cac4201c32f8ceee640fd6482db28274
X-WR-TIMEZONE:America/New_York
BEGIN:VTIMEZONE
TZID:America/New_York
BEGIN:STANDARD
TZNAME:EST
DTSTART:20251102T020000
TZOFFSETFROM:-0400
TZOFFSETTO:-0500
RDATE:20261101T020000
END:STANDARD
BEGIN:DAYLIGHT
TZNAME:EDT
DTSTART:20260308T020000
TZOFFSETFROM:-0500
TZOFFSETTO:-0400
RDATE:20270314T020000
END:DAYLIGHT
END:VTIMEZONE
BEGIN:VEVENT
UID:34d0f395-a906-4a25-989d-d2cdb3d8680a
DTSTAMP:20260424T184450Z
DESCRIPTION:
DTSTART;TZID=America/New_York:20260414T180000
DTEND;TZID=America/New_York:20260414T190000
LOCATION:2022 15th Ave\, Columbus\, GA 31901 US
SUMMARY:Compass Crew
END:VEVENT
END:VCALENDAR
