BEGIN:VCALENDAR
VERSION:2.0
PRODID:-//pastoralinstitute.org//NONSGML kigkonsult.se iCalcreator 2.30.10/
 /
CALSCALE:GREGORIAN
METHOD:PUBLISH
UID:0d962bc2-b6bd-4a6b-b082-4aa1fe42567d
X-WR-CALDESC:Exploring emotional distress and learning useful strategies fo
 r calming and coping.\n\nThis adult program will be hosted at North Columb
 us Public Library.
X-WR-RELCALID:8e2439f30cd4b751a16f5fb1b8f3871f
X-WR-TIMEZONE:America/New_York
BEGIN:VTIMEZONE
TZID:America/New_York
BEGIN:STANDARD
TZNAME:EST
DTSTART:20251102T020000
TZOFFSETFROM:-0400
TZOFFSETTO:-0500
RDATE:20261101T020000
END:STANDARD
BEGIN:DAYLIGHT
TZNAME:EDT
DTSTART:20260308T020000
TZOFFSETFROM:-0500
TZOFFSETTO:-0400
RDATE:20270314T020000
END:DAYLIGHT
END:VTIMEZONE
BEGIN:VEVENT
UID:f3297013-ae72-4394-ba32-8d434603f211
DTSTAMP:20260424T185316Z
DESCRIPTION:Exploring emotional distress and learning useful strategies for
  calming and coping.\n\nThis adult program will be hosted at North Columbu
 s Public Library.
DTSTART;TZID=America/New_York:20260420T110000
DTEND;TZID=America/New_York:20260420T120000
LOCATION:5689 Armour Rd\, Colu\, AL 31909 US
SUMMARY:From Reactivity to Resilience: Strengthen Your Emotional Control
END:VEVENT
END:VCALENDAR
