BEGIN:VCALENDAR
VERSION:2.0
PRODID:-//pastoralinstitute.org//NONSGML kigkonsult.se iCalcreator 2.30.10/
 /
CALSCALE:GREGORIAN
METHOD:PUBLISH
UID:85b5e7b1-d108-43b8-a0d9-55ddfa0a02bf
X-WR-CALDESC:
X-WR-RELCALID:22ab81e5bf505bcdb42131871c8754ae
X-WR-TIMEZONE:America/New_York
BEGIN:VTIMEZONE
TZID:America/New_York
BEGIN:STANDARD
TZNAME:EST
DTSTART:20251102T020000
TZOFFSETFROM:-0400
TZOFFSETTO:-0500
RDATE:20261101T020000
END:STANDARD
BEGIN:DAYLIGHT
TZNAME:EDT
DTSTART:20260308T020000
TZOFFSETFROM:-0500
TZOFFSETTO:-0400
RDATE:20270314T020000
END:DAYLIGHT
END:VTIMEZONE
BEGIN:VEVENT
UID:44ac7a33-46c8-467a-a063-87126585bb2c
DTSTAMP:20260424T184803Z
DESCRIPTION:
DTSTART;TZID=America/New_York:20260423T180000
DTEND;TZID=America/New_York:20260423T190000
LOCATION:2022 15th Avenue\, Columbus\, GA 31901 US
SUMMARY:Men's Divorce Support Group
END:VEVENT
END:VCALENDAR
