BEGIN:VCALENDAR
VERSION:2.0
PRODID:-//pastoralinstitute.org//NONSGML kigkonsult.se iCalcreator 2.30.10/
 /
CALSCALE:GREGORIAN
METHOD:PUBLISH
UID:a2278c29-7e1b-40e3-be76-840ecf9cabbd
X-WR-CALDESC:Explore healing through kintsugi—the art of repairing with gol
 d. Use creativity to honor your story\, and move forward piece by piece.\n
 \nNo artistic experience needed.\n
X-WR-RELCALID:009c8ba5bc1f7d20870c962b3922f731
X-WR-TIMEZONE:America/New_York
BEGIN:VTIMEZONE
TZID:America/New_York
BEGIN:STANDARD
TZNAME:EST
DTSTART:20251102T020000
TZOFFSETFROM:-0400
TZOFFSETTO:-0500
RDATE:20261101T020000
END:STANDARD
BEGIN:DAYLIGHT
TZNAME:EDT
DTSTART:20260308T020000
TZOFFSETFROM:-0500
TZOFFSETTO:-0400
RDATE:20270314T020000
END:DAYLIGHT
END:VTIMEZONE
BEGIN:VEVENT
UID:f463d719-4bce-45b4-82f5-ef66503716fa
DTSTAMP:20260424T184751Z
DESCRIPTION:Explore healing through kintsugi—the art of repairing with gold
 . Use creativity to honor your story\, and move forward piece by piece.\n
 \nNo artistic experience needed.\n
DTSTART;TZID=America/New_York:20260427T173000
DTEND;TZID=America/New_York:20260427T190000
LOCATION:2022 15th Avenue\, Columbus\, GA 31901 US
SUMMARY:Kintsugi: Healing Through Creative Transformation
END:VEVENT
END:VCALENDAR
