BEGIN:VCALENDAR
VERSION:2.0
PRODID:-//pastoralinstitute.org//NONSGML kigkonsult.se iCalcreator 2.30.10/
 /
CALSCALE:GREGORIAN
METHOD:PUBLISH
UID:b6a48d9c-6d1f-4501-9d45-a74052ce6ac0
X-WR-CALDESC:
X-WR-RELCALID:4a297d30edc218b722040e4431dcf746
X-WR-TIMEZONE:America/New_York
BEGIN:VTIMEZONE
TZID:America/New_York
BEGIN:STANDARD
TZNAME:EST
DTSTART:20251102T020000
TZOFFSETFROM:-0400
TZOFFSETTO:-0500
RDATE:20261101T020000
END:STANDARD
BEGIN:DAYLIGHT
TZNAME:EDT
DTSTART:20260308T020000
TZOFFSETFROM:-0500
TZOFFSETTO:-0400
RDATE:20270314T020000
END:DAYLIGHT
END:VTIMEZONE
BEGIN:VEVENT
UID:a02778b8-7986-4711-a099-6e2501a43907
DTSTAMP:20260424T184451Z
DESCRIPTION:
DTSTART;TZID=America/New_York:20260428T180000
DTEND;TZID=America/New_York:20260428T190000
LOCATION:2022 15th Ave\, Columbus\, GA 31901 US
SUMMARY:Compass Crew
END:VEVENT
END:VCALENDAR
