BEGIN:VCALENDAR
VERSION:2.0
PRODID:-//pastoralinstitute.org//NONSGML kigkonsult.se iCalcreator 2.30.10/
 /
CALSCALE:GREGORIAN
METHOD:PUBLISH
UID:f1efb34c-fa6b-415c-92de-53ea9aec8443
X-WR-CALDESC:Identifying and understanding difficult emotions and finding h
 ealthy expression through art and creativity.\n\nThis children/teens progr
 am will be hosted at South Columbus Public Library.
X-WR-RELCALID:eab8a4b324809c21d9148b891668b6e5
X-WR-TIMEZONE:America/New_York
BEGIN:VTIMEZONE
TZID:America/New_York
BEGIN:STANDARD
TZNAME:EST
DTSTART:20251102T020000
TZOFFSETFROM:-0400
TZOFFSETTO:-0500
RDATE:20261101T020000
END:STANDARD
BEGIN:DAYLIGHT
TZNAME:EDT
DTSTART:20260308T020000
TZOFFSETFROM:-0500
TZOFFSETTO:-0400
RDATE:20270314T020000
END:DAYLIGHT
END:VTIMEZONE
BEGIN:VEVENT
UID:4745a9b1-a6ee-4f9d-bc0a-6cafe8b570aa
DTSTAMP:20260424T185028Z
DESCRIPTION:Identifying and understanding difficult emotions and finding he
 althy expression through art and creativity.\n\nThis children/teens progra
 m will be hosted at South Columbus Public Library.
DTSTART;TZID=America/New_York:20260428T150000
DTEND;TZID=America/New_York:20260428T160000
LOCATION:2034 S Lumpkin Rd\, Columbus\, AL 31903 US
SUMMARY:Watercolors: A Creative Approach to Emotional Regulation
END:VEVENT
END:VCALENDAR
