BEGIN:VCALENDAR
VERSION:2.0
PRODID:-//pastoralinstitute.org//NONSGML kigkonsult.se iCalcreator 2.30.10/
 /
CALSCALE:GREGORIAN
METHOD:PUBLISH
UID:2479bc90-8bb4-4c31-a884-143741ce4169
X-WR-CALDESC:Our spring gathering will focus on Faith - how it looks to us\
 , how it looks to those inside and outside the church. We’ll hear from a g
 uest speaker identified as a good example of what it means to live our fai
 th daily.
X-WR-RELCALID:16b7df8e29b86d43b8a2b9ec45fc4e00
X-WR-TIMEZONE:America/New_York
BEGIN:VTIMEZONE
TZID:America/New_York
BEGIN:STANDARD
TZNAME:EST
DTSTART:20251102T020000
TZOFFSETFROM:-0400
TZOFFSETTO:-0500
RDATE:20261101T020000
RDATE:20271107T020000
END:STANDARD
BEGIN:DAYLIGHT
TZNAME:EDT
DTSTART:20260308T020000
TZOFFSETFROM:-0500
TZOFFSETTO:-0400
RDATE:20270314T020000
END:DAYLIGHT
END:VTIMEZONE
BEGIN:VEVENT
UID:c1535ab0-f86e-4e30-8e28-46c1abc52c4b
DTSTAMP:20260424T202833Z
DESCRIPTION:Our spring gathering will focus on Faith - how it looks to us\,
  how it looks to those inside and outside the church. We’ll hear from a gu
 est speaker identified as a good example of what it means to live our fait
 h daily.
DTSTART;TZID=America/New_York:20260514T160000
DTEND;TZID=America/New_York:20260514T170000
LOCATION:2022 15th Avenue\, Columbus\, GA 31901 US
SUMMARY:Conversations Among Clergy
END:VEVENT
END:VCALENDAR
