BEGIN:VCALENDAR
VERSION:2.0
PRODID:-//pastoralinstitute.org//NONSGML kigkonsult.se iCalcreator 2.30.10/
 /
CALSCALE:GREGORIAN
METHOD:PUBLISH
UID:fd8c3317-be05-4c2e-8ab6-a62b46bf30db
X-WR-CALDESC:Explore healing through kintsugi—the art of repairing with gol
 d. Use creativity to honor your story\, and move forward piece by piece.\n
 \nNo artistic experience needed.\n
X-WR-RELCALID:c2a969b6100eead2a744d8dd7ea2f637
X-WR-TIMEZONE:America/New_York
BEGIN:VTIMEZONE
TZID:America/New_York
BEGIN:STANDARD
TZNAME:EST
DTSTART:20251102T020000
TZOFFSETFROM:-0400
TZOFFSETTO:-0500
RDATE:20261101T020000
RDATE:20271107T020000
END:STANDARD
BEGIN:DAYLIGHT
TZNAME:EDT
DTSTART:20260308T020000
TZOFFSETFROM:-0500
TZOFFSETTO:-0400
RDATE:20270314T020000
END:DAYLIGHT
END:VTIMEZONE
BEGIN:VEVENT
UID:1f699e39-c70f-44af-9dcf-7e3d13cebba1
DTSTAMP:20260424T203201Z
DESCRIPTION:Explore healing through kintsugi—the art of repairing with gold
 . Use creativity to honor your story\, and move forward piece by piece.\n
 \nNo artistic experience needed.\n
DTSTART;TZID=America/New_York:20260518T173000
DTEND;TZID=America/New_York:20260518T190000
LOCATION:2022 15th Avenue\, Columbus\, GA 31901 US
SUMMARY:Kintsugi: Healing Through Creative Transformation
END:VEVENT
END:VCALENDAR
