BEGIN:VCALENDAR
VERSION:2.0
PRODID:-//pastoralinstitute.org//NONSGML kigkonsult.se iCalcreator 2.30.10/
 /
CALSCALE:GREGORIAN
METHOD:PUBLISH
UID:24fe7e30-0313-4791-ae38-dbcda92c193e
X-WR-CALDESC:Recognizing signs of depression and discovering practical stra
 tegies for managing symptoms.\n\nThis adult program will be hosted at Nort
 h Columbus Public Library.
X-WR-RELCALID:e4d664393876985346d8614c8c1426a5
X-WR-TIMEZONE:America/New_York
BEGIN:VTIMEZONE
TZID:America/New_York
BEGIN:STANDARD
TZNAME:EST
DTSTART:20251102T020000
TZOFFSETFROM:-0400
TZOFFSETTO:-0500
RDATE:20261101T020000
RDATE:20271107T020000
END:STANDARD
BEGIN:DAYLIGHT
TZNAME:EDT
DTSTART:20260308T020000
TZOFFSETFROM:-0500
TZOFFSETTO:-0400
RDATE:20270314T020000
END:DAYLIGHT
END:VTIMEZONE
BEGIN:VEVENT
UID:f7303ff3-bb13-4d5f-8792-d19463158d1b
DTSTAMP:20260424T203342Z
DESCRIPTION:Recognizing signs of depression and discovering practical strat
 egies for managing symptoms.\n\nThis adult program will be hosted at North
  Columbus Public Library.
DTSTART;TZID=America/New_York:20260518T110000
DTEND;TZID=America/New_York:20260518T120000
LOCATION:5689 Armour Rd\, Columbus\, AL 31909 US
SUMMARY:Brighten Your Days: Effective Strategies for Managing Depression
END:VEVENT
END:VCALENDAR
