BEGIN:VCALENDAR
VERSION:2.0
PRODID:-//pastoralinstitute.org//NONSGML kigkonsult.se iCalcreator 2.30.10/
 /
CALSCALE:GREGORIAN
METHOD:PUBLISH
UID:a1bbbcf0-3252-4af4-853e-b30cad365151
X-WR-CALDESC:
X-WR-RELCALID:edb383f5152fa00f2ca5ae68578628cb
X-WR-TIMEZONE:America/New_York
BEGIN:VTIMEZONE
TZID:America/New_York
BEGIN:STANDARD
TZNAME:EST
DTSTART:20251102T020000
TZOFFSETFROM:-0400
TZOFFSETTO:-0500
RDATE:20261101T020000
RDATE:20271107T020000
END:STANDARD
BEGIN:DAYLIGHT
TZNAME:EDT
DTSTART:20260308T020000
TZOFFSETFROM:-0500
TZOFFSETTO:-0400
RDATE:20270314T020000
END:DAYLIGHT
END:VTIMEZONE
BEGIN:VEVENT
UID:44857984-9149-40b1-a87a-ed8ac4ff77d7
DTSTAMP:20260424T203216Z
DESCRIPTION:
DTSTART;TZID=America/New_York:20260528T180000
DTEND;TZID=America/New_York:20260528T190000
LOCATION:2022 15th Avenue\, Columbus\, GA 31901 US
SUMMARY:Men's Divorce Support Group
END:VEVENT
END:VCALENDAR
