BEGIN:VCALENDAR
VERSION:2.0
PRODID:-//pastoralinstitute.org//NONSGML kigkonsult.se iCalcreator 2.30.10/
 /
CALSCALE:GREGORIAN
METHOD:PUBLISH
UID:3fbba0aa-9405-4530-882a-7c673b020b7d
X-WR-CALDESC:Hosted at South Columbus Public Library\n\nAn introduction to 
 anxiety including coping skills- understanding its causes\, symptoms and h
 ow it impacts the mind and body.
X-WR-RELCALID:05877c44118056ee45db91fec62dd876
X-WR-TIMEZONE:America/New_York
BEGIN:VTIMEZONE
TZID:America/New_York
BEGIN:STANDARD
TZNAME:EST
DTSTART:20251102T020000
TZOFFSETFROM:-0400
TZOFFSETTO:-0500
RDATE:20261101T020000
RDATE:20271107T020000
END:STANDARD
BEGIN:DAYLIGHT
TZNAME:EDT
DTSTART:20260308T020000
TZOFFSETFROM:-0500
TZOFFSETTO:-0400
RDATE:20270314T020000
END:DAYLIGHT
END:VTIMEZONE
BEGIN:VEVENT
UID:7c5a94bf-d943-420c-9a45-1853c4aa36d3
DTSTAMP:20260424T220555Z
DESCRIPTION:Hosted at South Columbus Public Library\n\nAn introduction to a
 nxiety including coping skills- understanding its causes\, symptoms and ho
 w it impacts the mind and body.
DTSTART;TZID=America/New_York:20260611T110000
DTEND;TZID=America/New_York:20260611T120000
LOCATION:2034 S Lumpkin Rd\, Columbus\, GA 31901 US
SUMMARY:Coffee and Conversation: Understanding and Managing Anxiety
END:VEVENT
END:VCALENDAR
