BEGIN:VCALENDAR
VERSION:2.0
PRODID:-//pastoralinstitute.org//NONSGML kigkonsult.se iCalcreator 2.30.10/
 /
CALSCALE:GREGORIAN
METHOD:PUBLISH
UID:bc9930eb-9a39-4e09-8b27-8be9ec55a69d
X-WR-CALDESC:
X-WR-RELCALID:82062bcbd3719c6bfd679bcea2f49ee2
X-WR-TIMEZONE:America/New_York
BEGIN:VTIMEZONE
TZID:America/New_York
BEGIN:STANDARD
TZNAME:EST
DTSTART:20251102T020000
TZOFFSETFROM:-0400
TZOFFSETTO:-0500
RDATE:20261101T020000
RDATE:20271107T020000
END:STANDARD
BEGIN:DAYLIGHT
TZNAME:EDT
DTSTART:20260308T020000
TZOFFSETFROM:-0500
TZOFFSETTO:-0400
RDATE:20270314T020000
END:DAYLIGHT
END:VTIMEZONE
BEGIN:VEVENT
UID:fb4930d1-0b1a-4705-9f5e-8dae9ccece4e
DTSTAMP:20260424T220700Z
DESCRIPTION:
DTSTART;TZID=America/New_York:20260625T180000
DTEND;TZID=America/New_York:20260625T190000
LOCATION:2022 15th Avenue\, Columbus\, GA 31901 US
SUMMARY:Men's Divorce Support Group
END:VEVENT
END:VCALENDAR
