BEGIN:VCALENDAR
VERSION:2.0
PRODID:-//pastoralinstitute.org//NONSGML kigkonsult.se iCalcreator 2.30.10/
 /
CALSCALE:GREGORIAN
METHOD:PUBLISH
UID:3705c3c6-3dd6-4794-8641-14b7b0e5d93d
X-WR-CALDESC:Hosted at Columbus Public Library\n\nAn interactive program on
  healthy scrolling. Explore how social media and doomscrolling can impact 
 mood\, self-esteem\, and mental health\, and how to take back control. Lea
 rn how to recognize unhealthy scrolling habits\, set boundaries online\, c
 ommunicate safely\, and use social media in ways that support your well-be
 ing
X-WR-RELCALID:63ef5f84920448c56843c2a23f06996c
X-WR-TIMEZONE:America/New_York
BEGIN:VTIMEZONE
TZID:America/New_York
BEGIN:STANDARD
TZNAME:EST
DTSTART:20251102T020000
TZOFFSETFROM:-0400
TZOFFSETTO:-0500
RDATE:20261101T020000
RDATE:20271107T020000
END:STANDARD
BEGIN:DAYLIGHT
TZNAME:EDT
DTSTART:20260308T020000
TZOFFSETFROM:-0500
TZOFFSETTO:-0400
RDATE:20270314T020000
END:DAYLIGHT
END:VTIMEZONE
BEGIN:VEVENT
UID:a82307af-cc9b-4461-aa44-c93a84f5bb9c
DTSTAMP:20260424T234557Z
DESCRIPTION:Hosted at Columbus Public Library\n\nAn interactive program on 
 healthy scrolling. Explore how social media and doomscrolling can impact m
 ood\, self-esteem\, and mental health\, and how to take back control. Lear
 n how to recognize unhealthy scrolling habits\, set boundaries online\, co
 mmunicate safely\, and use social media in ways that support your well-bei
 ng
DTSTART;TZID=America/New_York:20260708T140000
DTEND;TZID=America/New_York:20260708T150000
LOCATION:3000 Macon Rd. \, Columbus\, GA 31901 US
SUMMARY:Teen Takeover- Rewriting the Algorithm: A Guide to Healthy Scrollin
END:VEVENT
END:VCALENDAR
