BEGIN:VCALENDAR
VERSION:2.0
PRODID:-//pastoralinstitute.org//NONSGML kigkonsult.se iCalcreator 2.30.10/
 /
CALSCALE:GREGORIAN
METHOD:PUBLISH
UID:f839376e-1f62-4ba7-856b-47a9b1d35b3b
X-WR-CALDESC:Hosted at Columbus Public Library\n\nConversation on Independe
 nce\, Loss\, and Legacy. \nThis group offers a supportive space to reflect
  on independence across the lifespan—including aging\, grief\, loss\, and 
 end-of-life meaning—within the broader story of a nation approaching 250 y
 ears\, while emphasizing dignity\, resilience\, connection\, and legacy.
X-WR-RELCALID:ad235b8deb471a946542287f96b06fd7
X-WR-TIMEZONE:America/New_York
BEGIN:VTIMEZONE
TZID:America/New_York
BEGIN:STANDARD
TZNAME:EST
DTSTART:20251102T020000
TZOFFSETFROM:-0400
TZOFFSETTO:-0500
RDATE:20261101T020000
RDATE:20271107T020000
END:STANDARD
BEGIN:DAYLIGHT
TZNAME:EDT
DTSTART:20260308T020000
TZOFFSETFROM:-0500
TZOFFSETTO:-0400
RDATE:20270314T020000
END:DAYLIGHT
END:VTIMEZONE
BEGIN:VEVENT
UID:2d37f612-6b40-4ccd-9fb3-5100862e4942
DTSTAMP:20260424T235117Z
DESCRIPTION:Hosted at Columbus Public Library\n\nConversation on Independen
 ce\, Loss\, and Legacy. \nThis group offers a supportive space to reflect 
 on independence across the lifespan—including aging\, grief\, loss\, and e
 nd-of-life meaning—within the broader story of a nation approaching 250 ye
 ars\, while emphasizing dignity\, resilience\, connection\, and legacy.
DTSTART;TZID=America/New_York:20260717T130000
DTEND;TZID=America/New_York:20260717T140000
LOCATION:3000 Macon Rd. \, Columbus\, GA 31901 US
SUMMARY:Independent Lives: Solo Agers & America
END:VEVENT
END:VCALENDAR
