BEGIN:VCALENDAR
VERSION:2.0
PRODID:-//pastoralinstitute.org//NONSGML kigkonsult.se iCalcreator 2.30.10/
 /
CALSCALE:GREGORIAN
METHOD:PUBLISH
UID:7298519f-7f25-4dc1-9976-75719ef38047
X-WR-CALDESC:Hosted at North Columbus Public Library\n\nThis session is des
 igned for parents and caregivers of neurodiverse children and adolescents.
  Participants will have the opportunity to share experiences\, discuss cha
 llenges\, and learn practical coping strategies to manage daily stress and
  support their child’s growth. The session focuses on fostering emotional 
 well-being\, building resilience\, and providing tools to help both parent
 s and children thrive.
X-WR-RELCALID:85121e5b0e1f5ed63abf6c89c616f57e
X-WR-TIMEZONE:America/New_York
BEGIN:VTIMEZONE
TZID:America/New_York
BEGIN:STANDARD
TZNAME:EST
DTSTART:20251102T020000
TZOFFSETFROM:-0400
TZOFFSETTO:-0500
RDATE:20261101T020000
RDATE:20271107T020000
END:STANDARD
BEGIN:DAYLIGHT
TZNAME:EDT
DTSTART:20260308T020000
TZOFFSETFROM:-0500
TZOFFSETTO:-0400
RDATE:20270314T020000
END:DAYLIGHT
END:VTIMEZONE
BEGIN:VEVENT
UID:2d97714c-f7a7-4d3b-972d-0d6b61094b4d
DTSTAMP:20260424T234633Z
DESCRIPTION:Hosted at North Columbus Public Library\n\nThis session is desi
 gned for parents and caregivers of neurodiverse children and adolescents. 
 Participants will have the opportunity to share experiences\, discuss chal
 lenges\, and learn practical coping strategies to manage daily stress and 
 support their child’s growth. The session focuses on fostering emotional w
 ell-being\, building resilience\, and providing tools to help both parents
  and children thrive.
DTSTART;TZID=America/New_York:20260720T110000
DTEND;TZID=America/New_York:20260720T120000
LOCATION:5689 Armour Rd\, Columbus\, GA 31901 US
SUMMARY:Tools\, Talk\, and Support: Parenting Neurodiverse Kids
END:VEVENT
END:VCALENDAR
