BEGIN:VCALENDAR
VERSION:2.0
PRODID:-//pastoralinstitute.org//NONSGML kigkonsult.se iCalcreator 2.30.10/
 /
CALSCALE:GREGORIAN
METHOD:PUBLISH
UID:b4fb3f9d-a153-41e3-84ab-57787b627408
X-WR-CALDESC:
X-WR-RELCALID:427982e536ba0a4f822ebbc3932e96a7
X-WR-TIMEZONE:America/New_York
BEGIN:VTIMEZONE
TZID:America/New_York
BEGIN:STANDARD
TZNAME:EST
DTSTART:20251102T020000
TZOFFSETFROM:-0400
TZOFFSETTO:-0500
RDATE:20261101T020000
RDATE:20271107T020000
END:STANDARD
BEGIN:DAYLIGHT
TZNAME:EDT
DTSTART:20260308T020000
TZOFFSETFROM:-0500
TZOFFSETTO:-0400
RDATE:20270314T020000
END:DAYLIGHT
END:VTIMEZONE
BEGIN:VEVENT
UID:64bc9439-3525-493a-a9c1-6d5a703f83e0
DTSTAMP:20260424T234741Z
DESCRIPTION:
DTSTART;TZID=America/New_York:20260723T180000
DTEND;TZID=America/New_York:20260723T190000
LOCATION:2022 15th Avenue\, Columbus\, GA 31901 US
SUMMARY:Men's Divorce Support Group
END:VEVENT
END:VCALENDAR
