BEGIN:VCALENDAR
VERSION:2.0
PRODID:-//pastoralinstitute.org//NONSGML kigkonsult.se iCalcreator 2.30.10/
 /
CALSCALE:GREGORIAN
METHOD:PUBLISH
UID:eb0dbba9-5ab6-4494-815a-79991d74819d
X-WR-CALDESC:
X-WR-RELCALID:ae8ccb8cff654de42290789e7c6b7ceb
X-WR-TIMEZONE:America/New_York
BEGIN:VTIMEZONE
TZID:America/New_York
BEGIN:STANDARD
TZNAME:EST
DTSTART:20251102T020000
TZOFFSETFROM:-0400
TZOFFSETTO:-0500
RDATE:20261101T020000
RDATE:20271107T020000
END:STANDARD
BEGIN:DAYLIGHT
TZNAME:EDT
DTSTART:20260308T020000
TZOFFSETFROM:-0500
TZOFFSETTO:-0400
RDATE:20270314T020000
END:DAYLIGHT
END:VTIMEZONE
BEGIN:VEVENT
UID:48122638-864c-496c-a128-a186bb17b77d
DTSTAMP:20260425T013515Z
DESCRIPTION:
DTSTART;TZID=America/New_York:20260820T180000
DTEND;TZID=America/New_York:20260820T190000
LOCATION:2022 15th Avenue\, Columbus\, GA 31808 US
SUMMARY:Grief Group
END:VEVENT
END:VCALENDAR
