BEGIN:VCALENDAR
VERSION:2.0
PRODID:-//pastoralinstitute.org//NONSGML kigkonsult.se iCalcreator 2.30.10/
 /
CALSCALE:GREGORIAN
METHOD:PUBLISH
UID:d7480b87-3070-4b01-925c-046bdefa1f7c
X-WR-CALDESC:
X-WR-RELCALID:cdca6ce82530ee34275cb7b65e8b990a
X-WR-TIMEZONE:America/New_York
BEGIN:VTIMEZONE
TZID:America/New_York
BEGIN:STANDARD
TZNAME:EST
DTSTART:20251102T020000
TZOFFSETFROM:-0400
TZOFFSETTO:-0500
RDATE:20261101T020000
RDATE:20271107T020000
END:STANDARD
BEGIN:DAYLIGHT
TZNAME:EDT
DTSTART:20260308T020000
TZOFFSETFROM:-0500
TZOFFSETTO:-0400
RDATE:20270314T020000
END:DAYLIGHT
END:VTIMEZONE
BEGIN:VEVENT
UID:15318d52-db04-448b-ba77-4fdfbde492f2
DTSTAMP:20260425T012914Z
DESCRIPTION:
DTSTART;TZID=America/New_York:20260827T180000
DTEND;TZID=America/New_York:20260827T190000
LOCATION:2022 15th Avenue\, Columbus\, GA 31901 US
SUMMARY:Men's Divorce Support Group
END:VEVENT
END:VCALENDAR
