BEGIN:VCALENDAR
VERSION:2.0
PRODID:-//pastoralinstitute.org//NONSGML kigkonsult.se iCalcreator 2.30.10/
 /
CALSCALE:GREGORIAN
METHOD:PUBLISH
UID:9adf6c6d-7e03-4fd6-a587-b56f0307f1be
X-WR-CALDESC:
X-WR-RELCALID:d24a1179a55a99a906d1cb032cd20fd3
X-WR-TIMEZONE:America/New_York
BEGIN:VTIMEZONE
TZID:America/New_York
BEGIN:STANDARD
TZNAME:EST
DTSTART:20251102T020000
TZOFFSETFROM:-0400
TZOFFSETTO:-0500
RDATE:20261101T020000
RDATE:20271107T020000
END:STANDARD
BEGIN:DAYLIGHT
TZNAME:EDT
DTSTART:20260308T020000
TZOFFSETFROM:-0500
TZOFFSETTO:-0400
RDATE:20270314T020000
END:DAYLIGHT
END:VTIMEZONE
BEGIN:VEVENT
UID:98bdbae8-a472-478d-9842-159c6a4bebd1
DTSTAMP:20260425T025437Z
DESCRIPTION:
DTSTART;TZID=America/New_York:20260910T180000
DTEND;TZID=America/New_York:20260910T190000
LOCATION:2022 15th Avenue\, Columbus\, GA 31901 US
SUMMARY:Women's Divorce Support Group
END:VEVENT
END:VCALENDAR
