BEGIN:VCALENDAR
VERSION:2.0
PRODID:-//pastoralinstitute.org//NONSGML kigkonsult.se iCalcreator 2.30.10/
 /
CALSCALE:GREGORIAN
METHOD:PUBLISH
UID:025e2b75-5a5c-4a1f-93b5-9753f563f516
X-WR-CALDESC:
X-WR-RELCALID:0648d7d0bc64ce6dcb87ff587025d9e4
X-WR-TIMEZONE:America/New_York
BEGIN:VTIMEZONE
TZID:America/New_York
BEGIN:STANDARD
TZNAME:EST
DTSTART:20251102T020000
TZOFFSETFROM:-0400
TZOFFSETTO:-0500
RDATE:20261101T020000
RDATE:20271107T020000
END:STANDARD
BEGIN:DAYLIGHT
TZNAME:EDT
DTSTART:20260308T020000
TZOFFSETFROM:-0500
TZOFFSETTO:-0400
RDATE:20270314T020000
RDATE:20280312T020000
END:DAYLIGHT
END:VTIMEZONE
BEGIN:VEVENT
UID:b8551f46-2a4c-4029-84e6-1196c20e618f
DTSTAMP:20260425T025854Z
DESCRIPTION:
DTSTART;TZID=America/New_York:20260917T180000
DTEND;TZID=America/New_York:20260917T190000
LOCATION:2022 15th Avenue\, Columbus\, GA 31808 US
SUMMARY:Grief Group
END:VEVENT
END:VCALENDAR
